BEGIN:VCALENDAR
VERSION:2.0
PRODID:-//www.eventmaker.at//ICS-Exporter//de
BEGIN:VEVENT
UID:eventmaker.at38031
URL;VALUE=URI:https://www.raiffeisenbank-event.at/impulse-2/
SUMMARY;ENCODING=quoted-printable:Österreichischer Raiffeisenverband: Impulse
DESCRIPTION;CHARSET=UTF-8:
LOCATION;ENCODING=quoted-printable:Raiffeisenhaus Wien |  im 20. Stock | Friedrich-Wilhelm-Raiffeisen-Platz 1 | 1020 Wien | Österreich
DTSTART:20241105T170000Z
DTEND:20241105T203000Z
END:VEVENT
END:VCALENDAR
